BEGIN:VCALENDAR
VERSION:2.0
PRODID:-//ChamberMaster//Event Calendar 2.0//EN
METHOD:PUBLISH
X-PUBLISHED-TTL:P3D
REFRESH-INTERVAL:P3D
CALSCALE:GREGORIAN
BEGIN:VEVENT
DTSTART:20260521T210000Z
DTEND:20260521T230000Z
X-MICROSOFT-CDO-ALLDAYEVENT:FALSE
SUMMARY:Business After Hours Sponsored by BayCoast Bank
DESCRIPTION:Business After Hours sponsored by \n\nBayCoast Bank\n \n\nJoin us as at CCNB\n\nfor BayCoast Bank's Business After Hours! \n\n\n\n\n\nOpen bar\, appetizers and networking. Bring your business cards for a chance to win a door prize!\n\n \n\n\nThe Chamber's Business After Hours provide an opportunity for members and non-members to mingle and build business relationships in an informal\, relaxed business setting. These networking mixers are held on a monthly basis in partnership with member businesses and attract business professionals from many industries.
X-ALT-DESC;FMTTYPE=text/html:<div style="text-align: center\;"><br />\n<span style="font-size:28px\;"><span style="color:#DAA520\;"><strong><span style="text-align: inherit\; text-transform: inherit\; line-height: inherit\; text-indent: inherit\; letter-spacing: inherit\; font-family: arial\; font-style: inherit\; font-variant: inherit\; font-weight: inherit\; text-decoration: none\; word-spacing: inherit\; display: inline !important\; white-space: inherit\; visibility: inherit\; border-collapse: separate\; direction: inherit\; word-break: inherit\; orphans: 2\; empty-cells: show\; font-stretch: inherit\; float: none\; -webkit-text-stroke-width: 0px\; overflow-wrap: inherit\; background-color: rgb(255\, 255\, 255)\;">Business After Hours sponsored by </span></strong></span></span></div>\n\n<div style="text-align: center\;"><span style="font-size:28px\;"><span style="color:#DAA520\;"><strong><span style="text-align: inherit\; text-transform: inherit\; line-height: inherit\; text-indent: inherit\; letter-spacing: inherit\; font-family: arial\; font-style: inherit\; font-variant: inherit\; font-weight: inherit\; text-decoration: none\; word-spacing: inherit\; display: inline !important\; white-space: inherit\; visibility: inherit\; border-collapse: separate\; direction: inherit\; word-break: inherit\; orphans: 2\; empty-cells: show\; font-stretch: inherit\; float: none\; -webkit-text-stroke-width: 0px\; overflow-wrap: inherit\; background-color: rgb(255\, 255\, 255)\;">BayCoast Bank</span></strong></span></span></div>\n<span style="color:#800000\;"><span style="font-size:18px\;"><span style="text-align: center\; text-transform: none\; text-indent: 0px\; letter-spacing: normal\; font-style: normal\; font-variant: normal\; font-weight: 400\; text-decoration: none\; word-spacing: 0px\; white-space: normal\; orphans: 2\; -webkit-text-stroke-width: 0px\;"><span style="background-position: initial\; margin: 0px\; padding: 0px\; border-radius: 0px\; border: medium\; border-image: none\; left: auto\; top: auto\; width: auto\; height: auto\; text-align: center\; right: auto\; bottom: auto\; background-image: none\; line-height: inherit\; overflow: visible\; clear: none\; font-family: Arial\,Helvetica\,sans-serif\; font-weight: bolder\; background-repeat: initial\; background-attachment: initial\; vertical-align: baseline\; visibility: inherit\; border-collapse: separate\; position: static\; z-index: auto\; table-layout: auto\; direction: inherit\; word-break: inherit\; text-overflow: clip\; min-height: initial\; max-height: none\; min-width: initial\; max-width: none\; content: normal\; box-sizing: content-box\; empty-cells: show\; font-stretch: inherit\; opacity: 1\; background-clip: initial\; background-origin: initial\; background-size: initial\; box-shadow: none\; outline-offset: 0px\; overflow-wrap: inherit\;"><span style="background: none\; margin: 0px\; padding: 0px\; border-radius: 0px\; border: medium\; border-image: none\; left: auto\; top: auto\; width: auto\; height: auto\; text-align: inherit\; right: auto\; bottom: auto\; text-transform: inherit\; line-height: inherit\; text-indent: inherit\; letter-spacing: inherit\; overflow: visible\; clear: none\; font-family: inherit\; font-style: inherit\; font-variant: inherit\; font-weight: inherit\; word-spacing: inherit\; vertical-align: baseline\; white-space: inherit\; visibility: inherit\; border-collapse: separate\; position: static\; z-index: auto\; table-layout: auto\; direction: inherit\; word-break: inherit\; text-overflow: clip\; min-height: initial\; max-height: none\; min-width: initial\; max-width: none\; content: normal\; box-sizing: content-box\; empty-cells: show\; font-size-adjust: none\; font-stretch: inherit\; opacity: 1\; box-shadow: none\; outline-offset: 0px\; overflow-wrap: inherit\;"><span style="background: none\; margin: 0px\; padding: 0px\; border-radius: 0px\; border: medium\; border-image: none\; left: auto\; top: auto\; width: auto\; height: auto\; text-align: inherit\; right: auto\; bottom: auto\; text-transform: inherit\; line-height: inherit\; text-indent: inherit\; letter-spacing: inherit\; overflow: visible\; clear: none\; font-family: arial\; font-style: inherit\; font-variant: inherit\; font-weight: inherit\; word-spacing: inherit\; vertical-align: baseline\; white-space: inherit\; visibility: inherit\; border-collapse: separate\; position: static\; z-index: auto\; table-layout: auto\; direction: inherit\; word-break: inherit\; text-overflow: clip\; min-height: initial\; max-height: none\; min-width: initial\; max-width: none\; content: normal\; box-sizing: content-box\; empty-cells: show\; font-stretch: inherit\; opacity: 1\; box-shadow: none\; outline-offset: 0px\; overflow-wrap: inherit\;">&nbsp\;</span></span></span></span></span></span>\n\n<div style="text-align: center\;"><span style="color:#000080\;"><span style="font-size:18px\;"><span style="text-align: center\; text-transform: none\; text-indent: 0px\; letter-spacing: normal\; font-style: normal\; font-variant: normal\; font-weight: 400\; text-decoration: none\; word-spacing: 0px\; white-space: normal\; orphans: 2\; -webkit-text-stroke-width: 0px\;"><span style="background-position: initial\; margin: 0px\; padding: 0px\; border-radius: 0px\; border: medium\; border-image: none\; left: auto\; top: auto\; width: auto\; height: auto\; text-align: center\; right: auto\; bottom: auto\; background-image: none\; line-height: inherit\; overflow: visible\; clear: none\; font-family: Arial\,Helvetica\,sans-serif\; font-weight: bolder\; background-repeat: initial\; background-attachment: initial\; vertical-align: baseline\; visibility: inherit\; border-collapse: separate\; position: static\; z-index: auto\; table-layout: auto\; direction: inherit\; word-break: inherit\; text-overflow: clip\; min-height: initial\; max-height: none\; min-width: initial\; max-width: none\; content: normal\; box-sizing: content-box\; empty-cells: show\; font-stretch: inherit\; opacity: 1\; background-clip: initial\; background-origin: initial\; background-size: initial\; box-shadow: none\; outline-offset: 0px\; overflow-wrap: inherit\;"><span style="background: none\; margin: 0px\; padding: 0px\; border-radius: 0px\; border: medium\; border-image: none\; left: auto\; top: auto\; width: auto\; height: auto\; text-align: inherit\; right: auto\; bottom: auto\; text-transform: inherit\; line-height: inherit\; text-indent: inherit\; letter-spacing: inherit\; overflow: visible\; clear: none\; font-family: inherit\; font-style: inherit\; font-variant: inherit\; font-weight: inherit\; word-spacing: inherit\; vertical-align: baseline\; white-space: inherit\; visibility: inherit\; border-collapse: separate\; position: static\; z-index: auto\; table-layout: auto\; direction: inherit\; word-break: inherit\; text-overflow: clip\; min-height: initial\; max-height: none\; min-width: initial\; max-width: none\; content: normal\; box-sizing: content-box\; empty-cells: show\; font-size-adjust: none\; font-stretch: inherit\; opacity: 1\; box-shadow: none\; outline-offset: 0px\; overflow-wrap: inherit\;"><span style="background: none\; margin: 0px\; padding: 0px\; border-radius: 0px\; border: medium\; border-image: none\; left: auto\; top: auto\; width: auto\; height: auto\; text-align: inherit\; right: auto\; bottom: auto\; text-transform: inherit\; line-height: inherit\; text-indent: inherit\; letter-spacing: inherit\; overflow: visible\; clear: none\; font-family: arial\; font-style: inherit\; font-variant: inherit\; font-weight: inherit\; word-spacing: inherit\; vertical-align: baseline\; white-space: inherit\; visibility: inherit\; border-collapse: separate\; position: static\; z-index: auto\; table-layout: auto\; direction: inherit\; word-break: inherit\; text-overflow: clip\; min-height: initial\; max-height: none\; min-width: initial\; max-width: none\; content: normal\; box-sizing: content-box\; empty-cells: show\; font-stretch: inherit\; opacity: 1\; box-shadow: none\; outline-offset: 0px\; overflow-wrap: inherit\;">Join us as at CCNB<br />\nfor BayCoast Bank&#39\;s Business After Hours!&nbsp\;</span></span></span></span></span></span><br />\n<br />\n<br />\n<span style="color:#DAA520\;"><span style="font-size:18px\;"><span style="text-align: center\; text-transform: none\; text-indent: 0px\; letter-spacing: normal\; font-style: normal\; font-variant: normal\; font-weight: 400\; text-decoration: none\; word-spacing: 0px\; white-space: normal\; orphans: 2\; -webkit-text-stroke-width: 0px\;"><span style="background-position: initial\; margin: 0px\; padding: 0px\; border-radius: 0px\; border: medium\; border-image: none\; left: auto\; top: auto\; width: auto\; height: auto\; text-align: center\; right: auto\; bottom: auto\; background-image: none\; line-height: inherit\; overflow: visible\; clear: none\; font-family: Arial\,Helvetica\,sans-serif\; font-weight: bolder\; background-repeat: initial\; background-attachment: initial\; vertical-align: baseline\; visibility: inherit\; border-collapse: separate\; position: static\; z-index: auto\; table-layout: auto\; direction: inherit\; word-break: inherit\; text-overflow: clip\; min-height: initial\; max-height: none\; min-width: initial\; max-width: none\; content: normal\; box-sizing: content-box\; empty-cells: show\; font-stretch: inherit\; opacity: 1\; background-clip: initial\; background-origin: initial\; background-size: initial\; box-shadow: none\; outline-offset: 0px\; overflow-wrap: inherit\;"><span style="background: none\; margin: 0px\; padding: 0px\; border-radius: 0px\; border: medium\; border-image: none\; left: auto\; top: auto\; width: auto\; height: auto\; text-align: inherit\; right: auto\; bottom: auto\; text-transform: inherit\; line-height: inherit\; text-indent: inherit\; letter-spacing: inherit\; overflow: visible\; clear: none\; font-family: inherit\; font-style: inherit\; font-variant: inherit\; font-weight: inherit\; word-spacing: inherit\; vertical-align: baseline\; white-space: inherit\; visibility: inherit\; border-collapse: separate\; position: static\; z-index: auto\; table-layout: auto\; direction: inherit\; word-break: inherit\; text-overflow: clip\; min-height: initial\; max-height: none\; min-width: initial\; max-width: none\; content: normal\; box-sizing: content-box\; empty-cells: show\; font-size-adjust: none\; font-stretch: inherit\; opacity: 1\; box-shadow: none\; outline-offset: 0px\; overflow-wrap: inherit\;"><span style="background: none\; margin: 0px\; padding: 0px\; border-radius: 0px\; border: medium\; border-image: none\; left: auto\; top: auto\; width: auto\; height: auto\; text-align: inherit\; right: auto\; bottom: auto\; text-transform: inherit\; line-height: inherit\; text-indent: inherit\; letter-spacing: inherit\; overflow: visible\; clear: none\; font-family: arial\; font-style: inherit\; font-variant: inherit\; font-weight: inherit\; word-spacing: inherit\; vertical-align: baseline\; white-space: inherit\; visibility: inherit\; border-collapse: separate\; position: static\; z-index: auto\; table-layout: auto\; direction: inherit\; word-break: inherit\; text-overflow: clip\; min-height: initial\; max-height: none\; min-width: initial\; max-width: none\; content: normal\; box-sizing: content-box\; empty-cells: show\; font-stretch: inherit\; opacity: 1\; box-shadow: none\; outline-offset: 0px\; overflow-wrap: inherit\;">Open bar\, appetizers and networking. Bring your business cards for a chance to win a door prize!</span></span></span></span></span></span></div>\n\n<div style="text-align: center\;">&nbsp\;</div>\n<br -webkit-text-stroke-width:="" font-size:="" font-style:="" font-variant:="" font-weight:="" letter-spacing:="" orphans:="" style="color: rgb(51\, 51\, 51)\; font-family: sans-serif\,Arial\,Verdana\," text-align:="" text-decoration:="" text-indent:="" text-transform:="" trebuchet="" white-space:="" word-spacing:="" />\n<strong><span style="color:#800000\;"><span style="text-align: center\; text-transform: none\; text-indent: 0px\; letter-spacing: normal\; font-size: 13px\; font-style: normal\; font-variant: normal\; font-weight: 400\; text-decoration: none\; word-spacing: 0px\; white-space: normal\; orphans: 2\; -webkit-text-stroke-width: 0px\;"><span style="font-family: arial\; font-size: 14px\; text-align: center\;">The Chamber&#39\;s Business After Hours provide an opportunity for members and non-members to mingle and build business relationships in an informal\, relaxed business setting. These networking mixers are held on a monthly basis in partnership with member businesses and attract business professionals from many industries. </span></span></span></strong><br />\n<br />\n<br />\n<br />\n&nbsp\; &nbsp\; &nbsp\; &nbsp\; &nbsp\; &nbsp\; &nbsp\; &nbsp\; &nbsp\; &nbsp\; &nbsp\; &nbsp\; &nbsp\;&nbsp\;&nbsp\;
LOCATION:Country Club of New Bedford 585 Slocum Rd. Dartmouth
UID:e.1130.498561
SEQUENCE:3
DTSTAMP:20260423T224007Z
URL:https://members.onesouthcoast.com/events/details/business-after-hours-sponsored-by-baycoast-bank-498561
END:VEVENT

END:VCALENDAR
